BEGIN:VCALENDAR
VERSION:2.0
PRODID:-//Tukios.com/
BEGIN:VEVENT
UID:f0de709e-a706-4721-8476-43276b7ca65d@www.joejacksonfuneralchapels.com
DTSTAMP:20260423T205425Z
DTSTART:20260425T170000Z
DTEND:20260425T180000Z
SUMMARY:Chapel Service
DESCRIPTION:
URL:https://www.joejacksonfuneralchapels.com/obituaries/vidal-valdez
LOCATION: 719 Loring Ave  Laredo TX 78040
GEO:27.5027452;-99.4822459
END:VEVENT
END:VCALENDAR