BEGIN:VCALENDAR
VERSION:2.0
PRODID:-//Tukios.com/
BEGIN:VEVENT
UID:44f30c8a-8cbf-406b-ac21-be67192e3f18@www.joejacksonfuneralchapels.com
DTSTAMP:20260423T205251Z
DTSTART:20260425T173000Z
DTEND:20260425T183000Z
SUMMARY:Interment & Military Honors
DESCRIPTION:
URL:https://www.joejacksonfuneralchapels.com/obituaries/vidal-valdez
LOCATION: 3200 N Meadow Ave.  Laredo TX 78040
GEO:27.5285946;-99.4813085
END:VEVENT
END:VCALENDAR