BEGIN:VCALENDAR
VERSION:2.0
PRODID:-//Tukios.com/
BEGIN:VEVENT
UID:4f78b39e-9cdf-4544-a5da-4f0bf1d67602@www.joejacksonfuneralchapels.com
DTSTAMP:20260423T205654Z
DTSTART:20260425T000000Z
DTEND:20260425T010000Z
SUMMARY:Rosary
DESCRIPTION:
URL:https://www.joejacksonfuneralchapels.com/obituaries/vidal-valdez
LOCATION: 719 Loring Ave  Laredo TX 78040
GEO:27.5027452;-99.4822459
END:VEVENT
END:VCALENDAR