BEGIN:VCALENDAR
VERSION:2.0
PRODID:-//Tukios.com/
BEGIN:VEVENT
UID:2fe3753b-066a-4f45-9bd0-fbae4e8b2786@www.joejacksonfuneralchapels.com
DTSTAMP:20260423T205618Z
DTSTART:20260424T220000Z
DTEND:20260425T020000Z
SUMMARY:Visitation
DESCRIPTION:
URL:https://www.joejacksonfuneralchapels.com/obituaries/vidal-valdez
LOCATION: 719 Loring Ave  Laredo TX 78040
GEO:27.5027452;-99.4822459
END:VEVENT
END:VCALENDAR