BEGIN:VCALENDAR
VERSION:2.0
PRODID:-//Tukios.com/
BEGIN:VEVENT
UID:5ade1cc5-548c-48ea-ada3-6461f50451f9@www.joejacksonfuneralchapels.com
DTSTAMP:20260422T232237Z
DTSTART:20260427T000000Z
DTEND:20260427T010000Z
SUMMARY:Chapel Service
DESCRIPTION:
URL:https://www.joejacksonfuneralchapels.com/obituaries/ricardo-rios
LOCATION: 1410 Jacaman Rd.  Laredo TX 78041
GEO:27.5623792;-99.4710428
END:VEVENT
END:VCALENDAR