BEGIN:VCALENDAR
VERSION:2.0
PRODID:-//Tukios.com/
BEGIN:VEVENT
UID:1574f83b-20f1-49b1-a309-6221d3316d90@www.joejacksonfuneralchapels.com
DTSTAMP:20260422T202749Z
DTSTART:20260427T154500Z
DTEND:20260427T160000Z
SUMMARY:Interment & Military Honors
DESCRIPTION:
URL:https://www.joejacksonfuneralchapels.com/obituaries/mario-garza
LOCATION: 3200 N Meadow Ave.  Laredo TX 78040
GEO:27.5285946;-99.4813085
END:VEVENT
END:VCALENDAR