BEGIN:VCALENDAR
VERSION:2.0
PRODID:-//Tukios.com/
BEGIN:VEVENT
UID:79889942-3360-4ce7-b3f2-016754a4cc76@www.joejacksonfuneralchapels.com
DTSTAMP:20260422T202919Z
DTSTART:20260427T143000Z
DTEND:20260427T153000Z
SUMMARY:Mass
DESCRIPTION:
URL:https://www.joejacksonfuneralchapels.com/obituaries/mario-garza
LOCATION: 109 N Meadow Ave  Laredo TX 78040
GEO:27.496981;-99.4801618
END:VEVENT
END:VCALENDAR