BEGIN:VCALENDAR
VERSION:2.0
PRODID:-//Tukios.com/
BEGIN:VEVENT
UID:0d742d33-7a9a-45fd-a09e-7e0213740062@www.joejacksonfuneralchapels.com
DTSTAMP:20260422T203120Z
DTSTART:20260427T000000Z
DTEND:20260427T010000Z
SUMMARY:Rosary
DESCRIPTION:
URL:https://www.joejacksonfuneralchapels.com/obituaries/mario-garza
LOCATION: 719 Loring Ave  Laredo TX 78040
GEO:27.5027452;-99.4822459
END:VEVENT
END:VCALENDAR