BEGIN:VCALENDAR
VERSION:2.0
PRODID:-//Tukios.com/
BEGIN:VEVENT
UID:96ca3e09-b07f-422b-877c-08c75ec6064a@www.joejacksonfuneralchapels.com
DTSTAMP:20260422T203016Z
DTSTART:20260426T220000Z
DTEND:20260427T020000Z
SUMMARY:Visitation
DESCRIPTION:
URL:https://www.joejacksonfuneralchapels.com/obituaries/mario-garza
LOCATION: 719 Loring Ave  Laredo TX 78040
GEO:27.5027452;-99.4822459
END:VEVENT
END:VCALENDAR