BEGIN:VCALENDAR
VERSION:2.0
PRODID:-//Tukios.com/
BEGIN:VEVENT
UID:19fd7fc2-b9ef-4d4e-bdad-a11ccfe45e8b@www.joejacksonfuneralchapels.com
DTSTAMP:20260423T023619Z
DTSTART:20260429T161500Z
DTEND:20260429T163000Z
SUMMARY:Rite of Committal and Interment with Fire Department Honors
DESCRIPTION:
URL:https://www.joejacksonfuneralchapels.com/obituaries/gilberto-ramos
LOCATION: 3600 McPherson Rd  Laredo TX 78040
GEO:27.5287537;-99.4845129
END:VEVENT
END:VCALENDAR