BEGIN:VCALENDAR
VERSION:2.0
PRODID:-//Tukios.com/
BEGIN:VEVENT
UID:cc6349d7-044c-4ba0-bb35-a96ef604d562@www.joejacksonfuneralchapels.com
DTSTAMP:20260423T023950Z
DTSTART:20260429T150000Z
DTEND:20260429T160000Z
SUMMARY:Mass
DESCRIPTION:
URL:https://www.joejacksonfuneralchapels.com/obituaries/gilberto-ramos
LOCATION:St. Patrick's Catholic Church 555 East Del Mar Boulevard  Laredo 
	TX 78041
GEO:27.5706176;-99.4816704
END:VEVENT
END:VCALENDAR