BEGIN:VCALENDAR
VERSION:2.0
PRODID:-//Tukios.com/
BEGIN:VEVENT
UID:ba0a5e14-2233-4867-abc8-6e3d29df7a9e@www.joejacksonfuneralchapels.com
DTSTAMP:20260423T023619Z
DTSTART:20260429T000000Z
DTEND:20260429T010000Z
SUMMARY:Rosary
DESCRIPTION:
URL:https://www.joejacksonfuneralchapels.com/obituaries/gilberto-ramos
LOCATION:Joe Jackson North Funeral Chapels & Cremation Services 1410 
	Jacaman Road  Laredo TX 78041
GEO:27.5623792;-99.4710428
END:VEVENT
END:VCALENDAR