BEGIN:VCALENDAR
VERSION:2.0
PRODID:-//Tukios.com/
BEGIN:VEVENT
UID:9ef53cef-03fb-485e-ad55-0047e37bba55@www.joejacksonfuneralchapels.com
DTSTAMP:20260423T023951Z
DTSTART:20260428T220000Z
DTEND:20260429T020000Z
SUMMARY:Visitation
DESCRIPTION:
URL:https://www.joejacksonfuneralchapels.com/obituaries/gilberto-ramos
LOCATION:Joe Jackson North Funeral Chapels & Cremation Services 1410 
	Jacaman Road  Laredo TX 78041
GEO:27.5623882;-99.4710444
END:VEVENT
END:VCALENDAR