BEGIN:VCALENDAR
VERSION:2.0
PRODID:-//Tukios.com/
BEGIN:VEVENT
UID:9761ae3f-75f6-43b7-93ce-f4f6de7d635f@www.joejacksonfuneralchapels.com
DTSTAMP:20260424T173954Z
DTSTART:20260428T161500Z
DTEND:20260428T171500Z
SUMMARY:Interment
DESCRIPTION:
URL:https://www.joejacksonfuneralchapels.com/obituaries/elida-rodriguez
LOCATION: 3200 N Meadow Ave.  Laredo TX 78040
GEO:27.5285946;-99.4813085
END:VEVENT
END:VCALENDAR