BEGIN:VCALENDAR
VERSION:2.0
PRODID:-//Tukios.com/
BEGIN:VEVENT
UID:d72868f6-79d3-4ce5-beae-8c989bbd8448@www.joejacksonfuneralchapels.com
DTSTAMP:20260424T173450Z
DTSTART:20260428T150000Z
DTEND:20260428T160000Z
SUMMARY:Mass of Christian Burial
DESCRIPTION:
URL:https://www.joejacksonfuneralchapels.com/obituaries/elida-rodriguez
LOCATION: 1704 Sandman St  Laredo TX 78041
GEO:27.541502;-99.4735625
END:VEVENT
END:VCALENDAR