BEGIN:VCALENDAR
VERSION:2.0
PRODID:-//Tukios.com/
BEGIN:VEVENT
UID:7581df9c-7b34-471d-af02-1a01517f60b0@www.joejacksonfuneralchapels.com
DTSTAMP:20260424T173916Z
DTSTART:20260428T000000Z
DTEND:20260428T003000Z
SUMMARY:Rosary
DESCRIPTION:
URL:https://www.joejacksonfuneralchapels.com/obituaries/elida-rodriguez
LOCATION: 1410 Jacaman Rd.  Laredo TX 78041
GEO:27.5623792;-99.4710428
END:VEVENT
END:VCALENDAR