BEGIN:VCALENDAR
VERSION:2.0
PRODID:-//Tukios.com/
BEGIN:VEVENT
UID:10e47ab4-a3f6-4db3-a133-3c980700e57e@www.joejacksonfuneralchapels.com
DTSTAMP:20260424T173404Z
DTSTART:20260427T220000Z
DTEND:20260428T020000Z
SUMMARY:Visitation
DESCRIPTION:
URL:https://www.joejacksonfuneralchapels.com/obituaries/elida-rodriguez
LOCATION: 1410 Jacaman Rd.  Laredo TX 78041
GEO:27.5623792;-99.4710428
END:VEVENT
END:VCALENDAR