BEGIN:VCALENDAR
VERSION:2.0
PRODID:-//Tukios.com/
BEGIN:VEVENT
UID:b60bfa15-b348-4282-96a3-13b0320b2c7e@www.joejacksonfuneralchapels.com
DTSTAMP:20260424T183428Z
DTSTART:20260430T150000Z
DTEND:20260430T160000Z
SUMMARY:Mass of Christian Burial
DESCRIPTION:
URL:https://www.joejacksonfuneralchapels.com/obituaries/amber-charles
LOCATION: 555 E Del Mar Blvd  Laredo TX 78041
GEO:27.5706562;-99.481638
END:VEVENT
END:VCALENDAR