BEGIN:VCALENDAR
VERSION:2.0
PRODID:-//Tukios.com/
BEGIN:VEVENT
UID:a5a6cab4-115d-4da8-b164-4914f6df15ff@www.joejacksonfuneralchapels.com
DTSTAMP:20260424T183723Z
DTSTART:20260430T000000Z
DTEND:20260430T003000Z
SUMMARY:Rosary
DESCRIPTION:
URL:https://www.joejacksonfuneralchapels.com/obituaries/amber-charles
LOCATION: 1410 Jacaman Rd.  Laredo TX 78041
GEO:27.5623792;-99.4710428
END:VEVENT
END:VCALENDAR