BEGIN:VCALENDAR
VERSION:2.0
PRODID:-//Tukios.com/
BEGIN:VEVENT
UID:de60cc86-08f1-4196-97ca-2e3f0d6e4d78@www.joejacksonfuneralchapels.com
DTSTAMP:20260424T184315Z
DTSTART:20260429T220000Z
DTEND:20260430T020000Z
SUMMARY:Visitation
DESCRIPTION:
URL:https://www.joejacksonfuneralchapels.com/obituaries/amber-charles
LOCATION: 1410 Jacaman Rd.  Laredo TX 78041
GEO:27.5623792;-99.4710428
END:VEVENT
END:VCALENDAR